BEGIN:VCALENDAR
PRODID:-//AT Content Types//AT Event//EN
VERSION:1.0
BEGIN:VEVENT
DTSTART:20260416T160000Z
DTEND:20260416T170000Z
DCREATED:20260309T095857Z
UID:ATEvent-d1f47b57-6d1d-459c-be40-33d721adbec9
SEQUENCE:0
LAST-MODIFIED:20260317T083323Z
SUMMARY:Audicions íntimes\: Stromboli Jazz Band (Tarragona)
PRIORITY:3
TRANSP:0
END:VEVENT
END:VCALENDAR
