BEGIN:VCALENDAR
PRODID:-//AT Content Types//AT Event//EN
VERSION:2.0
METHOD:PUBLISH
BEGIN:VEVENT
DTSTAMP:20260425T114146Z
CREATED:20260309T095857Z
UID:ATEvent-97efd354-a60f-4095-936f-d46c88e1723f
LAST-MODIFIED:20260312T100851Z
SUMMARY:Concert de cloenda\: Èlia Bastida Quartet (Barcelona)
DTSTART:20260419T170000Z
DTEND:20260419T183000Z
CATEGORIES:Cultura
CLASS:PUBLIC
END:VEVENT
END:VCALENDAR
