BEGIN:VCALENDAR
PRODID:-//AT Content Types//AT Event//EN
VERSION:2.0
METHOD:PUBLISH
BEGIN:VEVENT
DTSTAMP:20260425T114229Z
CREATED:20251212T122237Z
UID:ATEvent-e8e3fa50-d1ca-479a-89c8-772924a7928d
LAST-MODIFIED:20260312T100843Z
SUMMARY:Concert inaugural | "Star Gazer"\, amb Sara Dowling & Ignasi Terraza Trio
DTSTART:20260416T180000Z
DTEND:20260416T191500Z
CATEGORIES:Cultura
CLASS:PUBLIC
END:VEVENT
END:VCALENDAR
