BEGIN:VCALENDAR
PRODID:-//AT Content Types//AT Event//EN
VERSION:1.0
BEGIN:VEVENT
DTSTART:20260418T100000Z
DTEND:20260418T110000Z
DCREATED:20260309T095857Z
UID:ATEvent-221d7680-29b6-488f-90ad-24e60e77302f
SEQUENCE:0
LAST-MODIFIED:20260313T114307Z
SUMMARY:Dixie & bicicleta\: Big Bike Orchestra (Polònia)
PRIORITY:3
TRANSP:0
END:VEVENT
END:VCALENDAR
