BEGIN:VCALENDAR
PRODID:-//AT Content Types//AT Event//EN
VERSION:2.0
METHOD:PUBLISH
BEGIN:VEVENT
DTSTAMP:20260425T114101Z
CREATED:20260309T095857Z
UID:ATEvent-f6519f2d-fa29-4fc4-ad29-5ad3f953fda8
LAST-MODIFIED:20260312T100844Z
SUMMARY:Dixie & carrer\: Big Bike Orchestra (Polònia)
DTSTART:20260417T090000Z
DTEND:20260417T100000Z
CATEGORIES:Cultura
CLASS:PUBLIC
END:VEVENT
END:VCALENDAR
