BEGIN:VCALENDAR
PRODID:-//AT Content Types//AT Event//EN
VERSION:1.0
BEGIN:VEVENT
DTSTART:20260417T093000Z
DTEND:20260417T103000Z
DCREATED:20260309T095857Z
UID:ATEvent-afe1c9b1-c5b7-477e-8104-7fdd69e061e7
SEQUENCE:0
LAST-MODIFIED:20260312T100844Z
SUMMARY:Dixie & carrer\: Circus Wheel Dixieland (Cambrils / Tanzània)
PRIORITY:3
TRANSP:0
END:VEVENT
END:VCALENDAR
