BEGIN:VCALENDAR
PRODID:-//AT Content Types//AT Event//EN
VERSION:2.0
METHOD:PUBLISH
BEGIN:VEVENT
DTSTAMP:20260425T113810Z
CREATED:20260309T095857Z
UID:ATEvent-0dbb24c8-5449-41ea-9835-c0c93abafce4
LAST-MODIFIED:20260312T100847Z
SUMMARY:Dixie & carrer\: Circus Wheel Dixieland (Cambrils / Tanzània)
DTSTART:20260418T090000Z
DTEND:20260418T100000Z
CATEGORIES:Cultura
CLASS:PUBLIC
END:VEVENT
END:VCALENDAR
