BEGIN:VCALENDAR
PRODID:-//AT Content Types//AT Event//EN
VERSION:2.0
METHOD:PUBLISH
BEGIN:VEVENT
DTSTAMP:20260425T111605Z
CREATED:20260309T095857Z
UID:ATEvent-29a67830-8be0-4e14-80f3-c7b595d4a28d
LAST-MODIFIED:20260312T100850Z
SUMMARY:Dixie & carrer\: Circus Wheel Dixieland (Cambrils / Tanzània)
DTSTART:20260419T090000Z
DTEND:20260419T100000Z
CATEGORIES:Cultura
CLASS:PUBLIC
END:VEVENT
END:VCALENDAR
