BEGIN:VCALENDAR
PRODID:-//AT Content Types//AT Event//EN
VERSION:2.0
METHOD:PUBLISH
BEGIN:VEVENT
DTSTAMP:20260425T113637Z
CREATED:20260309T095857Z
UID:ATEvent-90098757-f27d-4eff-8751-ba1f01e12e42
LAST-MODIFIED:20260312T100845Z
SUMMARY:Dixie & carrer\: Pixi Dixi Band (Tarragona)
DTSTART:20260417T160000Z
DTEND:20260417T170000Z
CATEGORIES:Cultura
CLASS:PUBLIC
END:VEVENT
END:VCALENDAR
