BEGIN:VCALENDAR
PRODID:-//AT Content Types//AT Event//EN
VERSION:2.0
METHOD:PUBLISH
BEGIN:VEVENT
DTSTAMP:20260425T112930Z
CREATED:20260309T095857Z
UID:ATEvent-9dfbb8b7-aba7-4b83-9b01-5f56e554bbfa
LAST-MODIFIED:20260312T100843Z
SUMMARY:Dixie & carrer\: Small River Dixie (Tarragona)
DTSTART:20260416T170000Z
DTEND:20260416T180000Z
CATEGORIES:Cultura
CLASS:PUBLIC
END:VEVENT
END:VCALENDAR
