BEGIN:VCALENDAR
PRODID:-//AT Content Types//AT Event//EN
VERSION:1.0
BEGIN:VEVENT
DTSTART:20260416T103000Z
DTEND:20260416T113000Z
DCREATED:20260309T095857Z
UID:ATEvent-2b95c292-4a7f-4db6-aaa5-c7a9944e3cdc
SEQUENCE:0
LAST-MODIFIED:20260312T100843Z
SUMMARY:Dixie & carrer\: Swing Engine (Moià)
PRIORITY:3
TRANSP:0
END:VEVENT
END:VCALENDAR
