BEGIN:VCALENDAR
PRODID:-//AT Content Types//AT Event//EN
VERSION:2.0
METHOD:PUBLISH
BEGIN:VEVENT
DTSTAMP:20260425T113143Z
CREATED:20260309T095857Z
UID:ATEvent-50049843-687c-478f-a46d-f6c0da2aa878
LAST-MODIFIED:20260312T100847Z
SUMMARY:Dixie & carrer\: Windy Coast Band (l'Hospitalet de l'Infant)
DTSTART:20260418T090000Z
DTEND:20260418T103000Z
CATEGORIES:Cultura
CLASS:PUBLIC
END:VEVENT
END:VCALENDAR
