BEGIN:VCALENDAR
PRODID:-//AT Content Types//AT Event//EN
VERSION:2.0
METHOD:PUBLISH
BEGIN:VEVENT
DTSTAMP:20260425T113043Z
CREATED:20260309T095857Z
UID:ATEvent-6ba87af5-c442-4bd5-99d7-7a456a449b24
LAST-MODIFIED:20260312T100850Z
SUMMARY:Dixie & claqué\: Mostra de claqué al carrer
DTSTART:20260419T100000Z
DTEND:20260419T110000Z
CATEGORIES:Cultura
CLASS:PUBLIC
END:VEVENT
END:VCALENDAR
