BEGIN:VCALENDAR
PRODID:-//AT Content Types//AT Event//EN
VERSION:1.0
BEGIN:VEVENT
DTSTART:20260417T173000Z
DTEND:20260417T183000Z
DCREATED:20260309T095857Z
UID:ATEvent-8f883a33-634d-4098-a258-1cb897a55962
SEQUENCE:0
LAST-MODIFIED:20260312T100845Z
SUMMARY:Dixie & claqué\: Classe de claqué per adults
PRIORITY:3
TRANSP:0
END:VEVENT
END:VCALENDAR
