BEGIN:VCALENDAR
PRODID:-//AT Content Types//AT Event//EN
VERSION:2.0
METHOD:PUBLISH
BEGIN:VEVENT
DTSTAMP:20260425T113638Z
CREATED:20260309T095857Z
UID:ATEvent-1ad6daac-a6be-4ee8-8eef-e197564509ed
LAST-MODIFIED:20260312T100846Z
SUMMARY:Dixie & concert. Anggie Obin Quintet (Panamà/Barcelona)
DTSTART:20260417T180000Z
DTEND:20260417T191500Z
CATEGORIES:Cultura
CLASS:PUBLIC
END:VEVENT
END:VCALENDAR
