BEGIN:VCALENDAR
PRODID:-//AT Content Types//AT Event//EN
VERSION:2.0
METHOD:PUBLISH
BEGIN:VEVENT
DTSTAMP:20260425T113852Z
CREATED:20251212T122237Z
UID:ATEvent-f39c6e1e-3c96-4f7e-ba92-b8b742dab72b
LAST-MODIFIED:20260312T100850Z
SUMMARY:Dixie & concert\: Sant Andreu Jazz Band\: 20è aniversari
DTSTART:20260418T180000Z
DTEND:20260418T191500Z
CATEGORIES:Cultura
CLASS:PUBLIC
END:VEVENT
END:VCALENDAR
