BEGIN:VCALENDAR
PRODID:-//AT Content Types//AT Event//EN
VERSION:2.0
METHOD:PUBLISH
BEGIN:VEVENT
DTSTAMP:20260425T112301Z
CREATED:20260309T095857Z
UID:ATEvent-06ad4883-5c82-426b-ad56-6f0492ab199b
LAST-MODIFIED:20260312T100845Z
SUMMARY:Dixie & documental\: Projecció i debat de "L’home orquestra. L’aventura dels músics catalans a Amèrica"
DTSTART:20260417T160000Z
DTEND:20260417T173000Z
CATEGORIES:Cultura
CLASS:PUBLIC
END:VEVENT
END:VCALENDAR
