BEGIN:VCALENDAR
PRODID:-//AT Content Types//AT Event//EN
VERSION:2.0
METHOD:PUBLISH
BEGIN:VEVENT
DTSTAMP:20260425T114049Z
CREATED:20260309T095857Z
UID:ATEvent-66056443-b215-47e6-9fdf-e33fb7118db9
LAST-MODIFIED:20260312T100847Z
SUMMARY:Dixie golfa\: Big Bike Orchestra (Polònia)
DTSTART:20260417T210000Z
DTEND:20260417T215500Z
CATEGORIES:Cultura
CLASS:PUBLIC
END:VEVENT
END:VCALENDAR
