BEGIN:VCALENDAR
PRODID:-//AT Content Types//AT Event//EN
VERSION:2.0
METHOD:PUBLISH
BEGIN:VEVENT
DTSTAMP:20260425T113016Z
CREATED:20260309T095857Z
UID:ATEvent-689a1184-97ec-49c9-a44f-5476fc51c993
LAST-MODIFIED:20260313T093130Z
SUMMARY:Dixie & jam\: Backing Track Band (Regne Unit / Argentina / Tarragona)
DTSTART:20260416T190000Z
DTEND:20260416T200000Z
CATEGORIES:Cultura
CLASS:PUBLIC
END:VEVENT
END:VCALENDAR
