BEGIN:VCALENDAR
PRODID:-//AT Content Types//AT Event//EN
VERSION:2.0
METHOD:PUBLISH
BEGIN:VEVENT
DTSTAMP:20260425T111635Z
CREATED:20260309T095857Z
UID:ATEvent-e2d31168-f319-4ff0-b869-33fa4ac44372
LAST-MODIFIED:20260312T100850Z
SUMMARY:Dixie jam\: Última nit del Dixieland
DTSTART:20260418T210000Z
DTEND:20260418T230000Z
CATEGORIES:Cultura
CLASS:PUBLIC
END:VEVENT
END:VCALENDAR
