BEGIN:VCALENDAR
PRODID:-//AT Content Types//AT Event//EN
VERSION:1.0
BEGIN:VEVENT
DTSTART:20260418T123000Z
DTEND:20260418T133000Z
DCREATED:20260309T095857Z
UID:ATEvent-682e1624-a9cd-412b-a70b-7db7d3d60e90
SEQUENCE:0
LAST-MODIFIED:20260312T100849Z
SUMMARY:Dixie & marató de swing\: Blue Mambo (Camp de Tarragona)
PRIORITY:3
TRANSP:0
END:VEVENT
END:VCALENDAR
