BEGIN:VCALENDAR
PRODID:-//AT Content Types//AT Event//EN
VERSION:1.0
BEGIN:VEVENT
DTSTART:20260418T163000Z
DTEND:20260418T180000Z
DCREATED:20260309T095857Z
UID:ATEvent-c4ec977d-0aaa-48f8-aa87-ce80382ff0e1
SEQUENCE:0
LAST-MODIFIED:20260312T100849Z
SUMMARY:Dixie & marató de swing\: Chino Swingslide Quintet (Argentina / Barcelona)
PRIORITY:3
TRANSP:0
END:VEVENT
END:VCALENDAR
