BEGIN:VCALENDAR
PRODID:-//AT Content Types//AT Event//EN
VERSION:1.0
BEGIN:VEVENT
DTSTART:20260418T150000Z
DTEND:20260418T163000Z
DCREATED:20260309T095857Z
UID:ATEvent-602088aa-3a0b-4198-bc05-491f5cecfc27
SEQUENCE:0
LAST-MODIFIED:20260312T100849Z
SUMMARY:Dixie & marató de swing\: Swing Fanàtics (Tarragona)
PRIORITY:3
TRANSP:0
END:VEVENT
END:VCALENDAR
