BEGIN:VCALENDAR
PRODID:-//AT Content Types//AT Event//EN
VERSION:1.0
BEGIN:VEVENT
DTSTART:20260418T110000Z
DTEND:20260418T120500Z
DCREATED:20260309T095857Z
UID:ATEvent-8eed29ea-e4bc-4882-921c-d2938efbeeb8
SEQUENCE:0
LAST-MODIFIED:20260312T100849Z
SUMMARY:Dixie & marató de swing\: Masterclass de ball swing amb Sandy Lewis (Estats Units)
PRIORITY:3
TRANSP:0
END:VEVENT
END:VCALENDAR
