BEGIN:VCALENDAR
PRODID:-//AT Content Types//AT Event//EN
VERSION:2.0
METHOD:PUBLISH
BEGIN:VEVENT
DTSTAMP:20260425T113540Z
CREATED:20260309T095857Z
UID:ATEvent-3b478f49-d02d-446c-962c-a9215f70ecb6
LAST-MODIFIED:20260312T100844Z
SUMMARY:Dixie & sopar\: By the Way Jazz (Tarragona)
DTSTART:20260416T193000Z
DTEND:20260416T203000Z
CATEGORIES:Cultura
CLASS:PUBLIC
END:VEVENT
END:VCALENDAR
