BEGIN:VCALENDAR
PRODID:-//AT Content Types//AT Event//EN
VERSION:2.0
METHOD:PUBLISH
BEGIN:VEVENT
DTSTAMP:20260425T113540Z
CREATED:20260309T095857Z
UID:ATEvent-d34f2abc-742f-46a1-952c-7b7bfd33fedf
LAST-MODIFIED:20260312T100847Z
SUMMARY:Dixie & sopar\: Nelson & Jako (Tarragona / Brasil)
DTSTART:20260417T193000Z
DTEND:20260417T203000Z
CATEGORIES:Cultura
CLASS:PUBLIC
END:VEVENT
END:VCALENDAR
