BEGIN:VCALENDAR
PRODID:-//AT Content Types//AT Event//EN
VERSION:1.0
BEGIN:VEVENT
DTSTART:20260418T193000Z
DTEND:20260418T203000Z
DCREATED:20260309T095857Z
UID:ATEvent-6af0bd2d-65c5-4c45-855d-c0d61d89094a
SEQUENCE:0
LAST-MODIFIED:20260312T100850Z
SUMMARY:Dixie & sopar\: Nelson & Jako (Tarragona / Brasil)
PRIORITY:3
TRANSP:0
END:VEVENT
END:VCALENDAR
