BEGIN:VCALENDAR
PRODID:-//AT Content Types//AT Event//EN
VERSION:2.0
METHOD:PUBLISH
BEGIN:VEVENT
DTSTAMP:20260425T123629Z
CREATED:20260309T095857Z
UID:ATEvent-d66baadb-1a2f-4a47-8d32-1bcd7c96003c
LAST-MODIFIED:20260312T100851Z
SUMMARY:Dixie & vermut\: Esther Piqué and The Ugly Tigers (Tarragona)
DTSTART:20260419T103000Z
DTEND:20260419T113000Z
CATEGORIES:Cultura
CLASS:PUBLIC
END:VEVENT
END:VCALENDAR
