BEGIN:VCALENDAR
PRODID:-//AT Content Types//AT Event//EN
VERSION:1.0
BEGIN:VEVENT
DTSTART:20260419T103000Z
DTEND:20260419T113000Z
DCREATED:20260309T095857Z
UID:ATEvent-367e40d6-86b2-4d91-925e-24b0bb6a1c4e
SEQUENCE:0
LAST-MODIFIED:20260312T100850Z
SUMMARY:Dixie & vermut\: Big Band de la BUMT (Tarragona)
PRIORITY:3
TRANSP:0
END:VEVENT
END:VCALENDAR
