BEGIN:VCALENDAR
PRODID:-//AT Content Types//AT Event//EN
VERSION:1.0
BEGIN:VEVENT
DTSTART:20260419T100000Z
DTEND:20260419T110000Z
DCREATED:20260309T095857Z
UID:ATEvent-175a7471-ad76-4027-9701-fd590f5359a1
SEQUENCE:0
LAST-MODIFIED:20260312T100850Z
SUMMARY:Dixie & vermut\: By the Way Jazz (Tarragona)
PRIORITY:3
TRANSP:0
END:VEVENT
END:VCALENDAR
