BEGIN:VCALENDAR
PRODID:-//AT Content Types//AT Event//EN
VERSION:2.0
METHOD:PUBLISH
BEGIN:VEVENT
DTSTAMP:20260425T113851Z
CREATED:20260309T095857Z
UID:ATEvent-d9ea77c3-16f5-4c0a-b838-c19371ff267d
LAST-MODIFIED:20260312T100848Z
SUMMARY:Dixie & vermut cajun\: Míster Bounce
DTSTART:20260418T100000Z
DTEND:20260418T110000Z
CATEGORIES:Cultura
CLASS:PUBLIC
END:VEVENT
END:VCALENDAR
