BEGIN:VCALENDAR
PRODID:-//AT Content Types//AT Event//EN
VERSION:2.0
METHOD:PUBLISH
BEGIN:VEVENT
DTSTAMP:20260425T113631Z
CREATED:20260309T095857Z
UID:ATEvent-faeabcea-fcec-4033-b679-d5082f82cd23
LAST-MODIFIED:20260312T100848Z
SUMMARY:Dixie & vermut\: Stromboli Jazz Band (Tarragona)
DTSTART:20260418T103000Z
DTEND:20260418T113000Z
CATEGORIES:Cultura
CLASS:PUBLIC
END:VEVENT
END:VCALENDAR
