BEGIN:VCALENDAR
PRODID:-//AT Content Types//AT Event//EN
VERSION:1.0
BEGIN:VEVENT
DTSTART:20260419T113000Z
DTEND:20260419T123000Z
DCREATED:20260309T095857Z
UID:ATEvent-90578714-f8f4-4d5c-91b2-9b9ab0fafcac
SEQUENCE:0
LAST-MODIFIED:20260312T100851Z
SUMMARY:Pícnic dixie\: Professor Cunningham and His Old School (Austràlia / Estats Units / Barcelona)
PRIORITY:3
TRANSP:0
END:VEVENT
END:VCALENDAR
