BEGIN:VCALENDAR
PRODID:-//AT Content Types//AT Event//EN
VERSION:1.0
BEGIN:VEVENT
DTSTART:20260419T100000Z
DTEND:20260419T110000Z
DCREATED:20260309T095857Z
UID:ATEvent-419dcdd3-0458-49b1-beb0-95637f6912b3
SEQUENCE:0
LAST-MODIFIED:20260312T100850Z
SUMMARY:Pícnic dixie\: South Side Stompers (Tarragona)
PRIORITY:3
TRANSP:0
END:VEVENT
END:VCALENDAR
