BEGIN:VCALENDAR
PRODID:-//AT Content Types//AT Event//EN
VERSION:2.0
METHOD:PUBLISH
BEGIN:VEVENT
DTSTAMP:20260425T113717Z
CREATED:20260309T095857Z
UID:ATEvent-0daa5d40-5703-4eb1-9d75-e2a95cc9b39f
LAST-MODIFIED:20260312T100845Z
SUMMARY:Vespre dixies\: Elvis Bajramovic Orkestar (Sèrbia)
DTSTART:20260417T170000Z
DTEND:20260417T180000Z
CATEGORIES:Cultura
CLASS:PUBLIC
END:VEVENT
END:VCALENDAR
