BEGIN:VCALENDAR
PRODID:-//AT Content Types//AT Event//EN
VERSION:1.0
BEGIN:VEVENT
DTSTART:20260416T183000Z
DTEND:20260416T193000Z
DCREATED:20260309T095857Z
UID:ATEvent-29c427e0-8859-4216-9fa5-9146e822585a
SEQUENCE:0
LAST-MODIFIED:20260312T100844Z
SUMMARY:Vespre dixies\: Georgi Olshanetsky i Norman Pena (Ucraïna / Suïssa / Tarragona)
PRIORITY:3
TRANSP:0
END:VEVENT
END:VCALENDAR
