BEGIN:VCALENDAR
PRODID:-//AT Content Types//AT Event//EN
VERSION:1.0
BEGIN:VEVENT
DTSTART:20260417T170000Z
DTEND:20260417T180000Z
DCREATED:20260309T095857Z
UID:ATEvent-e1b4280a-b198-42e8-98f6-572cf35922fb
SEQUENCE:0
LAST-MODIFIED:20260312T100845Z
SUMMARY:Vespre dixies\: Noémie Delavennat & Richard White (França / EUA)
PRIORITY:3
TRANSP:0
END:VEVENT
END:VCALENDAR
