BEGIN:VCALENDAR
PRODID:-//AT Content Types//AT Event//EN
VERSION:2.0
METHOD:PUBLISH
BEGIN:VEVENT
DTSTAMP:20260425T114228Z
CREATED:20260309T095857Z
UID:ATEvent-0fa8983a-6524-4c01-9846-1a556ab7b89c
LAST-MODIFIED:20260312T100850Z
SUMMARY:Vespres dixies\: Dj dels Xiquets de Tarragona
DTSTART:20260418T170000Z
DTEND:20260418T190000Z
CATEGORIES:Cultura
CLASS:PUBLIC
END:VEVENT
END:VCALENDAR
