BEGIN:VCALENDAR
PRODID:-//AT Content Types//AT Event//EN
VERSION:1.0
BEGIN:VEVENT
DTSTART:20260418T193000Z
DTEND:20260418T203000Z
DCREATED:20260309T095857Z
UID:ATEvent-ee9381da-4948-4a96-8ff9-535602685725
SEQUENCE:0
LAST-MODIFIED:20260312T100850Z
SUMMARY:Vespres dixies\: Elvis Bajramovic Orkestar (Sèrbia)
PRIORITY:3
TRANSP:0
END:VEVENT
END:VCALENDAR
