BEGIN:VCALENDAR
PRODID:-//AT Content Types//AT Event//EN
VERSION:1.0
BEGIN:VEVENT
DTSTART:20260417T173000Z
DTEND:20260417T183000Z
DCREATED:20260309T095857Z
UID:ATEvent-ffbe10a5-11bb-44fe-917b-8dcd806444e2
SEQUENCE:0
LAST-MODIFIED:20260312T100845Z
SUMMARY:Vespres dixies\: Stromboli Jazz Trio (Tarragona)
PRIORITY:3
TRANSP:0
END:VEVENT
END:VCALENDAR
