BEGIN:VCALENDAR
PRODID:-//AT Content Types//AT Event//EN
VERSION:2.0
METHOD:PUBLISH
BEGIN:VEVENT
DTSTAMP:20260425T114146Z
CREATED:20260309T095857Z
UID:ATEvent-92d13cd4-3848-4d5e-bb88-33079deea9c9
LAST-MODIFIED:20260414T090946Z
SUMMARY:Vespres dixies\: The Manouches (Tarragona)
DTSTART:20260417T200000Z
DTEND:20260417T210000Z
CATEGORIES:Cultura
CLASS:PUBLIC
END:VEVENT
END:VCALENDAR
