BEGIN:VCALENDAR
PRODID:-//AT Content Types//AT Event//EN
VERSION:1.0
BEGIN:VEVENT
DTSTART:20260417T180000Z
DTEND:20260417T190000Z
DCREATED:20260309T095857Z
UID:ATEvent-d069eda0-ec23-4221-8e41-2bac8a70afb4
SEQUENCE:0
LAST-MODIFIED:20260312T100846Z
SUMMARY:Vespres dixies\: Windy Coast Band (l'Hospitalet de l'Infant)
PRIORITY:3
TRANSP:0
END:VEVENT
END:VCALENDAR
