BEGIN:VCALENDAR
PRODID:-//AT Content Types//AT Event//EN
VERSION:2.0
METHOD:PUBLISH
BEGIN:VEVENT
DTSTAMP:20260425T004442Z
CREATED:20260413T085920Z
UID:ATEvent-164f1b9d-39a4-4db2-bb0e-37b156367532
LAST-MODIFIED:20260413T090838Z
SUMMARY:Club de lectura\: Novel·la negra
DTSTART:20260425T100000Z
DTEND:20260425T113000Z
CATEGORIES:Lletres,Primavera Literària
CLASS:PUBLIC
END:VEVENT
END:VCALENDAR
