BEGIN:VCALENDAR
PRODID:-//AT Content Types//AT Event//EN
VERSION:2.0
METHOD:PUBLISH
BEGIN:VEVENT
DTSTAMP:20260420T224436Z
CREATED:20260419T092552Z
UID:ATEvent-520f28ed-ebe3-47a9-8ac9-069ffe4d8417
LAST-MODIFIED:20260419T092714Z
SUMMARY:Crea el teu punt de conte!
DTSTART:20260426T100000Z
DTEND:20260426T110000Z
CATEGORIES:Lletres,Sant Jordi,Primavera Literària
CLASS:PUBLIC
END:VEVENT
END:VCALENDAR
