BEGIN:VCALENDAR
PRODID:-//AT Content Types//AT Event//EN
VERSION:2.0
METHOD:PUBLISH
BEGIN:VEVENT
DTSTAMP:20260422T182640Z
CREATED:20260312T070419Z
UID:ATEvent-f52e5782-4f74-4558-967d-90d9547bf692
LAST-MODIFIED:20260409T083438Z
SUMMARY:"De la poesia catalana a la música urbana"\, espectacle final obert al públic
DTSTART:20260410T080000Z
DTEND:20260410T090000Z
CATEGORIES:Lletres,Centres Cívics,Primavera Literària
CLASS:PUBLIC
END:VEVENT
END:VCALENDAR
