BEGIN:VCALENDAR
PRODID:-//AT Content Types//AT Event//EN
VERSION:2.0
METHOD:PUBLISH
BEGIN:VEVENT
DTSTAMP:20260423T013650Z
CREATED:20260421T060415Z
UID:ATEvent-456ad002-3fc8-4b41-92ff-c7e3e916ca23
LAST-MODIFIED:20260422T062727Z
SUMMARY:Especial Sant Jordi 2026\: Programa "Arran de mar"
DTSTART:20260423T140000Z
DTEND:20260423T150000Z
CATEGORIES:Lletres,Sant Jordi,Primavera Literària
CLASS:PUBLIC
END:VEVENT
END:VCALENDAR
