BEGIN:VCALENDAR
PRODID:-//AT Content Types//AT Event//EN
VERSION:2.0
METHOD:PUBLISH
BEGIN:VEVENT
DTSTAMP:20260423T013711Z
CREATED:20260421T060415Z
UID:ATEvent-6c54c011-f8b3-456e-b673-55ef0eb34f7f
LAST-MODIFIED:20260422T062522Z
SUMMARY:Especial Sant Jordi 2026\: Entrevistes als escriptors del Camp de Tarragona
DTSTART:20260423T070000Z
DTEND:20260423T113000Z
CATEGORIES:Lletres,Sant Jordi,Primavera Literària
CLASS:PUBLIC
END:VEVENT
END:VCALENDAR
