BEGIN:VCALENDAR
PRODID:-//AT Content Types//AT Event//EN
VERSION:1.0
BEGIN:VEVENT
DTSTART:20260423T150000Z
DTEND:20260423T180000Z
DCREATED:20260421T060415Z
UID:ATEvent-192e28a7-7e11-429b-b190-0b2ea9c3a035
SEQUENCE:0
LAST-MODIFIED:20260422T062728Z
SUMMARY:Especial Sant Jordi 2026\: Entrevistes als escriptors del Camp de Tarragona
PRIORITY:3
TRANSP:0
END:VEVENT
END:VCALENDAR
