BEGIN:VCALENDAR
PRODID:-//AT Content Types//AT Event//EN
VERSION:1.0
BEGIN:VEVENT
DTSTART:20260423T113000Z
DTEND:20260423T140000Z
DCREATED:20260421T060415Z
UID:ATEvent-65364dba-8116-4f91-bd68-75dc78546614
SEQUENCE:0
LAST-MODIFIED:20260422T062727Z
SUMMARY:Especial Sant Jordi 2026\: Marató de lectura en veu alta
PRIORITY:3
TRANSP:0
END:VEVENT
END:VCALENDAR
