BEGIN:VCALENDAR
PRODID:-//AT Content Types//AT Event//EN
VERSION:1.0
BEGIN:VEVENT
DTSTART:20260423T070000Z
DTEND:20260423T180000Z
DCREATED:20260421T060415Z
UID:ATEvent-6c54c011-f8b3-456e-b673-55ef0eb34f7f
SEQUENCE:0
LAST-MODIFIED:20260421T061133Z
SUMMARY:Especial Sant Jordi 2026
PRIORITY:3
TRANSP:0
END:VEVENT
END:VCALENDAR
